BEGIN:VCALENDAR
VERSION:2.0
PRODID:-//IUOE Local 158 - ECPv6.15.20//NONSGML v1.0//EN
CALSCALE:GREGORIAN
METHOD:PUBLISH
X-WR-CALNAME:IUOE Local 158
X-ORIGINAL-URL:https://www.iuoe158.org
X-WR-CALDESC:Events for IUOE Local 158
REFRESH-INTERVAL;VALUE=DURATION:PT1H
X-Robots-Tag:noindex
X-PUBLISHED-TTL:PT1H
BEGIN:VTIMEZONE
TZID:America/New_York
BEGIN:DAYLIGHT
TZOFFSETFROM:-0500
TZOFFSETTO:-0400
TZNAME:EDT
DTSTART:20250309T070000
END:DAYLIGHT
BEGIN:STANDARD
TZOFFSETFROM:-0400
TZOFFSETTO:-0500
TZNAME:EST
DTSTART:20251102T060000
END:STANDARD
BEGIN:DAYLIGHT
TZOFFSETFROM:-0500
TZOFFSETTO:-0400
TZNAME:EDT
DTSTART:20260308T070000
END:DAYLIGHT
BEGIN:STANDARD
TZOFFSETFROM:-0400
TZOFFSETTO:-0500
TZNAME:EST
DTSTART:20261101T060000
END:STANDARD
BEGIN:DAYLIGHT
TZOFFSETFROM:-0500
TZOFFSETTO:-0400
TZNAME:EDT
DTSTART:20270314T070000
END:DAYLIGHT
BEGIN:STANDARD
TZOFFSETFROM:-0400
TZOFFSETTO:-0500
TZNAME:EST
DTSTART:20271107T060000
END:STANDARD
END:VTIMEZONE
BEGIN:VEVENT
DTSTART;TZID=America/New_York:20260611T190000
DTEND;TZID=America/New_York:20260611T190000
DTSTAMP:20260424T074438
CREATED:20260218T200438Z
LAST-MODIFIED:20260218T200438Z
UID:10000708-1781204400-1781204400@www.iuoe158.org
SUMMARY:District 545 Quarterly Meeting (Longevity)
DESCRIPTION:
URL:https://www.iuoe158.org/event/district-545-quarterly-meeting-longevity-3/
LOCATION:Cicero\, 5612 Business Avenue\, Cicero\, NY\, 13039\, United States
CATEGORIES:Union Meetings
END:VEVENT
BEGIN:VEVENT
DTSTART;TZID=America/New_York:20260910T190000
DTEND;TZID=America/New_York:20260910T190000
DTSTAMP:20260424T074438
CREATED:20260218T200735Z
LAST-MODIFIED:20260218T200735Z
UID:10000710-1789066800-1789066800@www.iuoe158.org
SUMMARY:District 545 Quarterly Meeting
DESCRIPTION:
URL:https://www.iuoe158.org/event/district-545-quarterly-meeting-7/
LOCATION:Cicero\, 5612 Business Avenue\, Cicero\, NY\, 13039\, United States
CATEGORIES:Union Meetings
END:VEVENT
BEGIN:VEVENT
DTSTART;TZID=America/New_York:20261210T190000
DTEND;TZID=America/New_York:20261210T190000
DTSTAMP:20260424T074438
CREATED:20260218T200926Z
LAST-MODIFIED:20260218T200926Z
UID:10000711-1796929200-1796929200@www.iuoe158.org
SUMMARY:District 545 Quarterly Meeting
DESCRIPTION:
URL:https://www.iuoe158.org/event/district-545-quarterly-meeting-8/
LOCATION:Cicero\, 5612 Business Avenue\, Cicero\, NY\, 13039\, United States
CATEGORIES:Union Meetings
END:VEVENT
END:VCALENDAR