BEGIN:VCALENDAR
VERSION:2.0
PRODID:-//IUOE Local 158 - ECPv6.15.20//NONSGML v1.0//EN
CALSCALE:GREGORIAN
METHOD:PUBLISH
X-ORIGINAL-URL:https://www.iuoe158.org
X-WR-CALDESC:Events for IUOE Local 158
REFRESH-INTERVAL;VALUE=DURATION:PT1H
X-Robots-Tag:noindex
X-PUBLISHED-TTL:PT1H
BEGIN:VTIMEZONE
TZID:America/New_York
BEGIN:DAYLIGHT
TZOFFSETFROM:-0500
TZOFFSETTO:-0400
TZNAME:EDT
DTSTART:20210314T070000
END:DAYLIGHT
BEGIN:STANDARD
TZOFFSETFROM:-0400
TZOFFSETTO:-0500
TZNAME:EST
DTSTART:20211107T060000
END:STANDARD
BEGIN:DAYLIGHT
TZOFFSETFROM:-0500
TZOFFSETTO:-0400
TZNAME:EDT
DTSTART:20220313T070000
END:DAYLIGHT
BEGIN:STANDARD
TZOFFSETFROM:-0400
TZOFFSETTO:-0500
TZNAME:EST
DTSTART:20221106T060000
END:STANDARD
BEGIN:DAYLIGHT
TZOFFSETFROM:-0500
TZOFFSETTO:-0400
TZNAME:EDT
DTSTART:20230312T070000
END:DAYLIGHT
BEGIN:STANDARD
TZOFFSETFROM:-0400
TZOFFSETTO:-0500
TZNAME:EST
DTSTART:20231105T060000
END:STANDARD
BEGIN:DAYLIGHT
TZOFFSETFROM:-0500
TZOFFSETTO:-0400
TZNAME:EDT
DTSTART:20240310T070000
END:DAYLIGHT
BEGIN:STANDARD
TZOFFSETFROM:-0400
TZOFFSETTO:-0500
TZNAME:EST
DTSTART:20241103T060000
END:STANDARD
BEGIN:DAYLIGHT
TZOFFSETFROM:-0500
TZOFFSETTO:-0400
TZNAME:EDT
DTSTART:20250309T070000
END:DAYLIGHT
BEGIN:STANDARD
TZOFFSETFROM:-0400
TZOFFSETTO:-0500
TZNAME:EST
DTSTART:20251102T060000
END:STANDARD
BEGIN:DAYLIGHT
TZOFFSETFROM:-0500
TZOFFSETTO:-0400
TZNAME:EDT
DTSTART:20260308T070000
END:DAYLIGHT
BEGIN:STANDARD
TZOFFSETFROM:-0400
TZOFFSETTO:-0500
TZNAME:EST
DTSTART:20261101T060000
END:STANDARD
BEGIN:DAYLIGHT
TZOFFSETFROM:-0500
TZOFFSETTO:-0400
TZNAME:EDT
DTSTART:20270314T070000
END:DAYLIGHT
BEGIN:STANDARD
TZOFFSETFROM:-0400
TZOFFSETTO:-0500
TZNAME:EST
DTSTART:20271107T060000
END:STANDARD
END:VTIMEZONE
BEGIN:VEVENT
DTSTART;TZID=America/New_York:20260312T190000
DTEND;TZID=America/New_York:20260312T190000
DTSTAMP:20260424T090101
CREATED:20260218T200016Z
LAST-MODIFIED:20260218T200016Z
UID:10000706-1773342000-1773342000@www.iuoe158.org
SUMMARY:District 545 Quarterly Meeting
DESCRIPTION:
URL:https://www.iuoe158.org/event/district-545-quarterly-meeting-6/
LOCATION:Cicero\, 5612 Business Avenue\, Cicero\, NY\, 13039\, United States
CATEGORIES:Union Meetings
END:VEVENT
BEGIN:VEVENT
DTSTART;TZID=America/New_York:20251211T190000
DTEND;TZID=America/New_York:20251211T190000
DTSTAMP:20260424T090101
CREATED:20250312T181030Z
LAST-MODIFIED:20250312T184704Z
UID:10000679-1765479600-1765479600@www.iuoe158.org
SUMMARY:District 545 Quarterly Meeting
DESCRIPTION:
URL:https://www.iuoe158.org/event/district-545-quarterly-meeting-5/
LOCATION:Cicero\, 5612 Business Avenue\, Cicero\, NY\, 13039\, United States
CATEGORIES:Union Meetings
END:VEVENT
BEGIN:VEVENT
DTSTART;TZID=America/New_York:20250918T190000
DTEND;TZID=America/New_York:20250918T190000
DTSTAMP:20260424T090101
CREATED:20250312T180852Z
LAST-MODIFIED:20250312T184835Z
UID:10000678-1758222000-1758222000@www.iuoe158.org
SUMMARY:District 545 Quarterly Meeting
DESCRIPTION:
URL:https://www.iuoe158.org/event/district-545-quarterly-meeting-4/
LOCATION:Cicero\, 5612 Business Avenue\, Cicero\, NY\, 13039\, United States
CATEGORIES:Union Meetings
END:VEVENT
BEGIN:VEVENT
DTSTART;TZID=America/New_York:20250722T200000
DTEND;TZID=America/New_York:20250722T200000
DTSTAMP:20260424T090101
CREATED:20250312T184552Z
LAST-MODIFIED:20250312T184552Z
UID:10000696-1753214400-1753214400@www.iuoe158.org
SUMMARY:Local 158 General Membership Meeting
DESCRIPTION:
URL:https://www.iuoe158.org/event/local-158-general-membership-meeting/
LOCATION:Cicero\, 5612 Business Avenue\, Cicero\, NY\, 13039\, United States
CATEGORIES:Union Meetings
END:VEVENT
BEGIN:VEVENT
DTSTART;TZID=America/New_York:20250612T190000
DTEND;TZID=America/New_York:20250612T190000
DTSTAMP:20260424T090101
CREATED:20250312T180807Z
LAST-MODIFIED:20250312T184908Z
UID:10000677-1749754800-1749754800@www.iuoe158.org
SUMMARY:District 545 Quarterly Meeting (Longevity)
DESCRIPTION:
URL:https://www.iuoe158.org/event/district-545-quarterly-meeting-longevity-2/
LOCATION:Cicero\, 5612 Business Avenue\, Cicero\, NY\, 13039\, United States
CATEGORIES:Union Meetings
END:VEVENT
BEGIN:VEVENT
DTSTART;TZID=America/New_York:20250313T190000
DTEND;TZID=America/New_York:20250313T190000
DTSTAMP:20260424T090101
CREATED:20250312T180706Z
LAST-MODIFIED:20250312T184942Z
UID:10000676-1741892400-1741892400@www.iuoe158.org
SUMMARY:District 545 Quarterly Meeting
DESCRIPTION:
URL:https://www.iuoe158.org/event/district-545-quarterly-meeting-3/
LOCATION:Cicero\, 5612 Business Avenue\, Cicero\, NY\, 13039\, United States
CATEGORIES:Union Meetings
END:VEVENT
BEGIN:VEVENT
DTSTART;TZID=America/New_York:20241212T190000
DTEND;TZID=America/New_York:20241212T190000
DTSTAMP:20260424T090101
CREATED:20240911T131659Z
LAST-MODIFIED:20240911T131659Z
UID:10000667-1734030000-1734030000@www.iuoe158.org
SUMMARY:District 545 Quarterly Meeting
DESCRIPTION:
URL:https://www.iuoe158.org/event/district-545-quarterly-meeting-2/
LOCATION:Cicero\, 5612 Business Avenue\, Cicero\, NY\, 13039\, United States
CATEGORIES:Union Meetings
END:VEVENT
BEGIN:VEVENT
DTSTART;TZID=America/New_York:20240912T190000
DTEND;TZID=America/New_York:20240912T190000
DTSTAMP:20260424T090101
CREATED:20240910T151355Z
LAST-MODIFIED:20240910T151355Z
UID:10000661-1726167600-1726167600@www.iuoe158.org
SUMMARY:District 545 Quarterly Meeting
DESCRIPTION:
URL:https://www.iuoe158.org/event/district-545-quarterly-meeting/
LOCATION:Cicero\, 5612 Business Avenue\, Cicero\, NY\, 13039\, United States
CATEGORIES:Union Meetings
END:VEVENT
BEGIN:VEVENT
DTSTART;TZID=America/New_York:20240613T190000
DTEND;TZID=America/New_York:20240613T190000
DTSTAMP:20260424T090101
CREATED:20240612T142526Z
LAST-MODIFIED:20240612T142526Z
UID:10000657-1718305200-1718305200@www.iuoe158.org
SUMMARY:District 545 Quarterly Meeting (Longevity)
DESCRIPTION:
URL:https://www.iuoe158.org/event/district-545-quarterly-meeting-longevity/
LOCATION:Cicero\, 5612 Business Avenue\, Cicero\, NY\, 13039\, United States
CATEGORIES:Union Meetings
END:VEVENT
BEGIN:VEVENT
DTSTART;TZID=America/New_York:20240515T120000
DTEND;TZID=America/New_York:20240515T120000
DTSTAMP:20260424T090101
CREATED:20240423T140425Z
LAST-MODIFIED:20240423T140425Z
UID:10000656-1715774400-1715774400@www.iuoe158.org
SUMMARY:District 545 Retirees Luncheon
DESCRIPTION:The District 545 Retirees Luncheon is being held on Wednesday\, May 15\, 2024 at noon. If you are interested in attending\, please call the union hall at (315)492-1752 before May 8th to RSVP.
URL:https://www.iuoe158.org/event/district-545-retirees-luncheon/
LOCATION:Cicero\, 5612 Business Avenue\, Cicero\, NY\, 13039\, United States
CATEGORIES:General Event
END:VEVENT
BEGIN:VEVENT
DTSTART;TZID=America/New_York:20221208T190000
DTEND;TZID=America/New_York:20221208T201500
DTSTAMP:20260424T090101
CREATED:20220315T210540Z
LAST-MODIFIED:20220404T194055Z
UID:10000415-1670526000-1670530500@www.iuoe158.org
SUMMARY:District 545 Meeting
DESCRIPTION:
URL:https://www.iuoe158.org/event/district-545-meeting-2/
LOCATION:Cicero\, 5612 Business Avenue\, Cicero\, NY\, 13039\, United States
CATEGORIES:Union Meetings
END:VEVENT
BEGIN:VEVENT
DTSTART;TZID=America/New_York:20220908T190000
DTEND;TZID=America/New_York:20220908T200000
DTSTAMP:20260424T090101
CREATED:20220315T210523Z
LAST-MODIFIED:20220404T194326Z
UID:10000409-1662663600-1662667200@www.iuoe158.org
SUMMARY:District 545 Meeting
DESCRIPTION:
URL:https://www.iuoe158.org/event/district-545-meeting/
LOCATION:Cicero\, 5612 Business Avenue\, Cicero\, NY\, 13039\, United States
CATEGORIES:Union Meetings
END:VEVENT
BEGIN:VEVENT
DTSTART;TZID=America/New_York:20220726T200000
DTEND;TZID=America/New_York:20220726T200000
DTSTAMP:20260424T090101
CREATED:20220505T141505Z
LAST-MODIFIED:20220726T120214Z
UID:10000333-1658865600-1658865600@www.iuoe158.org
SUMMARY:Local 158 General Membership Meeting
DESCRIPTION:
URL:https://www.iuoe158.org/event/district-545-general-membership-meeting/
LOCATION:Cicero\, 5612 Business Avenue\, Cicero\, NY\, 13039\, United States
CATEGORIES:Union Meetings
END:VEVENT
BEGIN:VEVENT
DTSTART;TZID=America/New_York:20220609T190000
DTEND;TZID=America/New_York:20220609T200000
DTSTAMP:20260424T090101
CREATED:20220315T210521Z
LAST-MODIFIED:20220502T172403Z
UID:10000405-1654801200-1654804800@www.iuoe158.org
SUMMARY:District 545 Longevity Meeting
DESCRIPTION:
URL:https://www.iuoe158.org/event/district-545-longevity-meeting/
LOCATION:Cicero\, 5612 Business Avenue\, Cicero\, NY\, 13039\, United States
CATEGORIES:Union Meetings
END:VEVENT
END:VCALENDAR