BEGIN:VCALENDAR
VERSION:2.0
PRODID:-//IUOE Local 158 - ECPv6.15.20//NONSGML v1.0//EN
CALSCALE:GREGORIAN
METHOD:PUBLISH
X-ORIGINAL-URL:https://www.iuoe158.org
X-WR-CALDESC:Events for IUOE Local 158
REFRESH-INTERVAL;VALUE=DURATION:PT1H
X-Robots-Tag:noindex
X-PUBLISHED-TTL:PT1H
BEGIN:VTIMEZONE
TZID:America/New_York
BEGIN:DAYLIGHT
TZOFFSETFROM:-0500
TZOFFSETTO:-0400
TZNAME:EDT
DTSTART:20220313T070000
END:DAYLIGHT
BEGIN:STANDARD
TZOFFSETFROM:-0400
TZOFFSETTO:-0500
TZNAME:EST
DTSTART:20221106T060000
END:STANDARD
BEGIN:DAYLIGHT
TZOFFSETFROM:-0500
TZOFFSETTO:-0400
TZNAME:EDT
DTSTART:20230312T070000
END:DAYLIGHT
BEGIN:STANDARD
TZOFFSETFROM:-0400
TZOFFSETTO:-0500
TZNAME:EST
DTSTART:20231105T060000
END:STANDARD
BEGIN:DAYLIGHT
TZOFFSETFROM:-0500
TZOFFSETTO:-0400
TZNAME:EDT
DTSTART:20240310T070000
END:DAYLIGHT
BEGIN:STANDARD
TZOFFSETFROM:-0400
TZOFFSETTO:-0500
TZNAME:EST
DTSTART:20241103T060000
END:STANDARD
BEGIN:DAYLIGHT
TZOFFSETFROM:-0500
TZOFFSETTO:-0400
TZNAME:EDT
DTSTART:20250309T070000
END:DAYLIGHT
BEGIN:STANDARD
TZOFFSETFROM:-0400
TZOFFSETTO:-0500
TZNAME:EST
DTSTART:20251102T060000
END:STANDARD
END:VTIMEZONE
BEGIN:VEVENT
DTSTART;TZID=America/New_York:20231116T080000
DTEND;TZID=America/New_York:20231116T163000
DTSTAMP:20260420T075740
CREATED:20231027T143721Z
LAST-MODIFIED:20231027T143721Z
UID:10000590-1700121600-1700152200@www.iuoe158.org
SUMMARY:Forklift Refresher
DESCRIPTION:
URL:https://www.iuoe158.org/event/forklift-refresher-15/
LOCATION:District 545 Training Site\, 814 Co. Rt. 23\, Constantia\, NY\, 13044\, United States
CATEGORIES:District 545 Training
END:VEVENT
BEGIN:VEVENT
DTSTART;TZID=America/New_York:20231117T080000
DTEND;TZID=America/New_York:20231117T163000
DTSTAMP:20260420T075740
CREATED:20231027T143800Z
LAST-MODIFIED:20231027T143800Z
UID:10000591-1700208000-1700238600@www.iuoe158.org
SUMMARY:Asbestos Refresher
DESCRIPTION:
URL:https://www.iuoe158.org/event/asbestos-refresher-12/
LOCATION:District 545 Training Site\, 814 Co. Rt. 23\, Constantia\, NY\, 13044\, United States
CATEGORIES:District 545 Training
END:VEVENT
BEGIN:VEVENT
DTSTART;TZID=America/New_York:20231120T080000
DTEND;TZID=America/New_York:20231120T163000
DTSTAMP:20260420T075740
CREATED:20231027T143853Z
LAST-MODIFIED:20231027T143853Z
UID:10000592-1700467200-1700497800@www.iuoe158.org
SUMMARY:Crane Rigging Safety
DESCRIPTION:
URL:https://www.iuoe158.org/event/crane-rigging-safety-3/
LOCATION:District 545 Training Site\, 814 Co. Rt. 23\, Constantia\, NY\, 13044\, United States
CATEGORIES:District 545 Training
END:VEVENT
BEGIN:VEVENT
DTSTART;TZID=America/New_York:20231121T080000
DTEND;TZID=America/New_York:20231121T163000
DTSTAMP:20260420T075740
CREATED:20231027T143929Z
LAST-MODIFIED:20231027T143929Z
UID:10000593-1700553600-1700584200@www.iuoe158.org
SUMMARY:Crane Signal Safety
DESCRIPTION:
URL:https://www.iuoe158.org/event/crane-signal-safety/
LOCATION:District 545 Training Site\, 814 Co. Rt. 23\, Constantia\, NY\, 13044\, United States
CATEGORIES:District 545 Training
END:VEVENT
BEGIN:VEVENT
DTSTART;TZID=America/New_York:20231121T080000
DTEND;TZID=America/New_York:20231122T163000
DTSTAMP:20260420T075740
CREATED:20231027T172208Z
LAST-MODIFIED:20231027T172208Z
UID:10000629-1700553600-1700670600@www.iuoe158.org
SUMMARY:Welding Class for Beginners
DESCRIPTION:
URL:https://www.iuoe158.org/event/welding-class-for-beginners-2/
LOCATION:District 832 Training Site\, 121 State Route 70\, Dansville\, NY\, 14437\, United States
CATEGORIES:District 832 Training
END:VEVENT
BEGIN:VEVENT
DTSTART;TZID=America/New_York:20231129T080000
DTEND;TZID=America/New_York:20231129T163000
DTSTAMP:20260420T075740
CREATED:20231027T172243Z
LAST-MODIFIED:20231027T172243Z
UID:10000630-1701244800-1701275400@www.iuoe158.org
SUMMARY:Rigging Beginner for Apprentices
DESCRIPTION:
URL:https://www.iuoe158.org/event/rigging-beginner-for-apprentices-2/
LOCATION:District 832 Training Site\, 121 State Route 70\, Dansville\, NY\, 14437\, United States
CATEGORIES:District 832 Training
END:VEVENT
BEGIN:VEVENT
DTSTART;TZID=America/New_York:20231130T080000
DTEND;TZID=America/New_York:20231130T120000
DTSTAMP:20260420T075740
CREATED:20231027T172318Z
LAST-MODIFIED:20231027T172318Z
UID:10000631-1701331200-1701345600@www.iuoe158.org
SUMMARY:Forklift Refresher
DESCRIPTION:
URL:https://www.iuoe158.org/event/forklift-refresher-22/
LOCATION:District 832 Training Site\, 121 State Route 70\, Dansville\, NY\, 14437\, United States
CATEGORIES:District 832 Training
END:VEVENT
BEGIN:VEVENT
DTSTART;TZID=America/New_York:20231204T070000
DTEND;TZID=America/New_York:20231208T153000
DTSTAMP:20260420T075740
CREATED:20231027T132409Z
LAST-MODIFIED:20231027T132409Z
UID:10000436-1701673200-1702049400@www.iuoe158.org
SUMMARY:Crane Class
DESCRIPTION:
URL:https://www.iuoe158.org/event/crane-class-2/
LOCATION:District 106 Training Site\, 27 Hannay Lane\, Glenmont\, NY\, 12077\, United States
CATEGORIES:District 106 Training
END:VEVENT
BEGIN:VEVENT
DTSTART;TZID=America/New_York:20231205T190000
DTEND;TZID=America/New_York:20231205T210000
DTSTAMP:20260420T075740
CREATED:20230222T161105Z
LAST-MODIFIED:20230222T161105Z
UID:10000540-1701802800-1701810000@www.iuoe158.org
SUMMARY:District 832 - District Meeting
DESCRIPTION:
URL:https://www.iuoe158.org/event/district-832-district-meeting/2023-12-05/
LOCATION:NY
CATEGORIES:Union Meetings
END:VEVENT
BEGIN:VEVENT
DTSTART;TZID=America/New_York:20231205T190000
DTEND;TZID=America/New_York:20231205T210000
DTSTAMP:20260420T075740
CREATED:20230222T161332Z
LAST-MODIFIED:20230222T161332Z
UID:10000543-1701802800-1701810000@www.iuoe158.org
SUMMARY:District 106 - District Meeting
DESCRIPTION:
URL:https://www.iuoe158.org/event/district-106-district-meeting-2/2023-12-05/
LOCATION:NY
CATEGORIES:Union Meetings
END:VEVENT
BEGIN:VEVENT
DTSTART;TZID=America/New_York:20231207T190000
DTEND;TZID=America/New_York:20231207T210000
DTSTAMP:20260420T075740
CREATED:20230222T161229Z
LAST-MODIFIED:20230222T161229Z
UID:10000541-1701975600-1701982800@www.iuoe158.org
SUMMARY:District 832 - Update Meeting (Southern Tier)
DESCRIPTION:
URL:https://www.iuoe158.org/event/district-832-update-meeting-southern-tier-2/
LOCATION:NY
CATEGORIES:Union Meetings
END:VEVENT
BEGIN:VEVENT
DTSTART;TZID=America/New_York:20231208T080000
DTEND;TZID=America/New_York:20231208T163000
DTSTAMP:20260420T075740
CREATED:20231027T144039Z
LAST-MODIFIED:20231027T144039Z
UID:10000471-1702022400-1702053000@www.iuoe158.org
SUMMARY:Crane Re-Certification and NYS Test (@Constantia Site)
DESCRIPTION:
URL:https://www.iuoe158.org/event/crane-re-certification-and-nys-test-constantia-site/
LOCATION:District 545 Training Site\, 814 Co. Rt. 23\, Constantia\, NY\, 13044\, United States
CATEGORIES:District 545 Training
END:VEVENT
BEGIN:VEVENT
DTSTART;TZID=America/New_York:20231212T090000
DTEND;TZID=America/New_York:20231212T120000
DTSTAMP:20260420T075740
CREATED:20231027T132515Z
LAST-MODIFIED:20231027T132515Z
UID:10000438-1702371600-1702382400@www.iuoe158.org
SUMMARY:NYS Written Refresher Crane Test
DESCRIPTION:
URL:https://www.iuoe158.org/event/nys-written-refresher-crane-test-7/
LOCATION:District 106 Training Site\, 27 Hannay Lane\, Glenmont\, NY\, 12077\, United States
CATEGORIES:District 106 Training
END:VEVENT
BEGIN:VEVENT
DTSTART;TZID=America/New_York:20231213T080000
DTEND;TZID=America/New_York:20231213T120000
DTSTAMP:20260420T075740
CREATED:20231027T144145Z
LAST-MODIFIED:20231027T144145Z
UID:10000473-1702454400-1702468800@www.iuoe158.org
SUMMARY:Forklift Refresher
DESCRIPTION:
URL:https://www.iuoe158.org/event/forklift-refresher-16/
LOCATION:District 545 Training Site\, 814 Co. Rt. 23\, Constantia\, NY\, 13044\, United States
CATEGORIES:District 545 Training
END:VEVENT
BEGIN:VEVENT
DTSTART;TZID=America/New_York:20231213T080000
DTEND;TZID=America/New_York:20231213T163000
DTSTAMP:20260420T075740
CREATED:20231027T172349Z
LAST-MODIFIED:20231027T172349Z
UID:10000632-1702454400-1702485000@www.iuoe158.org
SUMMARY:Crane Rigging Safety
DESCRIPTION:
URL:https://www.iuoe158.org/event/crane-rigging-safety-5/
LOCATION:District 832 Training Site\, 121 State Route 70\, Dansville\, NY\, 14437\, United States
CATEGORIES:District 832 Training
END:VEVENT
BEGIN:VEVENT
DTSTART;TZID=America/New_York:20231214T080000
DTEND;TZID=America/New_York:20231214T163000
DTSTAMP:20260420T075740
CREATED:20231027T144227Z
LAST-MODIFIED:20231027T144227Z
UID:10000475-1702540800-1702571400@www.iuoe158.org
SUMMARY:Hazmat Refresher
DESCRIPTION:
URL:https://www.iuoe158.org/event/hazmat-refresher-27/
LOCATION:District 545 Training Site\, 814 Co. Rt. 23\, Constantia\, NY\, 13044\, United States
CATEGORIES:District 545 Training
END:VEVENT
BEGIN:VEVENT
DTSTART;TZID=America/New_York:20231214T190000
DTEND;TZID=America/New_York:20231214T210000
DTSTAMP:20260420T075740
CREATED:20230222T162108Z
LAST-MODIFIED:20230222T162108Z
UID:10000547-1702580400-1702587600@www.iuoe158.org
SUMMARY:District 545 - District Meeting
DESCRIPTION:
URL:https://www.iuoe158.org/event/district-545-district-meeting-2/2023-12-14/
LOCATION:NY
CATEGORIES:Union Meetings
END:VEVENT
BEGIN:VEVENT
DTSTART;TZID=America/New_York:20231215T080000
DTEND;TZID=America/New_York:20231215T163000
DTSTAMP:20260420T075740
CREATED:20231027T144313Z
LAST-MODIFIED:20231027T144313Z
UID:10000477-1702627200-1702657800@www.iuoe158.org
SUMMARY:Asbestos Refresher
DESCRIPTION:
URL:https://www.iuoe158.org/event/asbestos-refresher-13/
LOCATION:District 545 Training Site\, 814 Co. Rt. 23\, Constantia\, NY\, 13044\, United States
CATEGORIES:District 545 Training
END:VEVENT
BEGIN:VEVENT
DTSTART;TZID=America/New_York:20231215T190000
DTEND;TZID=America/New_York:20231215T210000
DTSTAMP:20260420T075740
CREATED:20230222T162733Z
LAST-MODIFIED:20230222T162733Z
UID:10000549-1702666800-1702674000@www.iuoe158.org
SUMMARY:District 545 - Update Meeting (Canton)
DESCRIPTION:
URL:https://www.iuoe158.org/event/district-545-update-meeting-canton-2/
LOCATION:NY
CATEGORIES:Union Meetings
END:VEVENT
BEGIN:VEVENT
DTSTART;TZID=America/New_York:20231218T080000
DTEND;TZID=America/New_York:20231218T160000
DTSTAMP:20260420T075740
CREATED:20231027T132558Z
LAST-MODIFIED:20231027T132558Z
UID:10000440-1702886400-1702915200@www.iuoe158.org
SUMMARY:Asbestos Refresher
DESCRIPTION:
URL:https://www.iuoe158.org/event/asbestos-refresher-9/
LOCATION:Alpine Environmental Services\, 438 New Karner Road\, Albany\, NY\, 12205\, United States
CATEGORIES:District 106 Training
END:VEVENT
BEGIN:VEVENT
DTSTART;TZID=America/New_York:20231218T080000
DTEND;TZID=America/New_York:20231218T163000
DTSTAMP:20260420T075740
CREATED:20231027T144358Z
LAST-MODIFIED:20231027T144358Z
UID:10000479-1702886400-1702917000@www.iuoe158.org
SUMMARY:Forklift Initial
DESCRIPTION:
URL:https://www.iuoe158.org/event/forklift-initial-8/
LOCATION:District 545 Training Site\, 814 Co. Rt. 23\, Constantia\, NY\, 13044\, United States
CATEGORIES:District 545 Training
END:VEVENT
BEGIN:VEVENT
DTSTART;TZID=America/New_York:20231221T093000
DTEND;TZID=America/New_York:20231221T093000
DTSTAMP:20260420T075740
CREATED:20231027T144507Z
LAST-MODIFIED:20231027T144507Z
UID:10000481-1703151000-1703151000@www.iuoe158.org
SUMMARY:Apprentice Reviews (Constantia Site) MANDATORY
DESCRIPTION:
URL:https://www.iuoe158.org/event/apprentice-reviews-constantia-site-mandatory/
LOCATION:District 545 Training Site\, 814 Co. Rt. 23\, Constantia\, NY\, 13044\, United States
CATEGORIES:District 545 Training
END:VEVENT
BEGIN:VEVENT
DTSTART;TZID=America/New_York:20240102T070000
DTEND;TZID=America/New_York:20240102T153000
DTSTAMP:20260420T075740
CREATED:20231027T132643Z
LAST-MODIFIED:20231027T132818Z
UID:10000442-1704178800-1704209400@www.iuoe158.org
SUMMARY:Hazmat Refresher - Lake George
DESCRIPTION:
URL:https://www.iuoe158.org/event/hazmat-refresher-19/
LOCATION:Lake George\, Lake George\, NY\, 12845\, United States
CATEGORIES:District 106 Training
END:VEVENT
BEGIN:VEVENT
DTSTART;TZID=America/New_York:20240102T080000
DTEND;TZID=America/New_York:20240105T163000
DTSTAMP:20260420T075740
CREATED:20231027T144727Z
LAST-MODIFIED:20231228T164853Z
UID:10000483-1704182400-1704472200@www.iuoe158.org
SUMMARY:CANCELED: Crane Class Initial (Written Portion) 3 Weeks
DESCRIPTION:
URL:https://www.iuoe158.org/event/crane-class-initial-written-portion-3-weeks-2/
LOCATION:District 545 Training Site\, 814 Co. Rt. 23\, Constantia\, NY\, 13044\, United States
CATEGORIES:District 545 Training
END:VEVENT
BEGIN:VEVENT
DTSTART;TZID=America/New_York:20240103T070000
DTEND;TZID=America/New_York:20240103T153000
DTSTAMP:20260420T075740
CREATED:20231027T132752Z
LAST-MODIFIED:20231027T132752Z
UID:10000444-1704265200-1704295800@www.iuoe158.org
SUMMARY:Hazmat Refresher - Plattsburgh
DESCRIPTION:
URL:https://www.iuoe158.org/event/hazmat-refresher-plattsburgh/
LOCATION:Plattsburgh
CATEGORIES:District 106 Training
END:VEVENT
BEGIN:VEVENT
DTSTART;TZID=America/New_York:20240104T080000
DTEND;TZID=America/New_York:20240104T163000
DTSTAMP:20260420T075740
CREATED:20231027T172440Z
LAST-MODIFIED:20231027T172440Z
UID:10000633-1704355200-1704385800@www.iuoe158.org
SUMMARY:Asbestos Refresher
DESCRIPTION:
URL:https://www.iuoe158.org/event/asbestos-refresher-17/
LOCATION:Cornerstone Training Institute\, 460 State Street 2nd Floor\, Rochester\, NY\, 14608\, United States
CATEGORIES:District 832 Training
END:VEVENT
BEGIN:VEVENT
DTSTART;TZID=America/New_York:20240105T070000
DTEND;TZID=America/New_York:20240105T153000
DTSTAMP:20260420T075740
CREATED:20231027T132859Z
LAST-MODIFIED:20231027T132859Z
UID:10000446-1704438000-1704468600@www.iuoe158.org
SUMMARY:Hazmat Refresher - Binghamton
DESCRIPTION:
URL:https://www.iuoe158.org/event/hazmat-refresher-binghamton/
LOCATION:Binghamton
CATEGORIES:District 106 Training
END:VEVENT
BEGIN:VEVENT
DTSTART;TZID=America/New_York:20240105T080000
DTEND;TZID=America/New_York:20240105T163000
DTSTAMP:20260420T075740
CREATED:20231027T145359Z
LAST-MODIFIED:20231027T145359Z
UID:10000489-1704441600-1704472200@www.iuoe158.org
SUMMARY:Union Orientation/Benefits Class
DESCRIPTION:
URL:https://www.iuoe158.org/event/union-orientation-benefits-class-2/
LOCATION:District 545 Training Site\, 814 Co. Rt. 23\, Constantia\, NY\, 13044\, United States
CATEGORIES:District 545 Training
END:VEVENT
BEGIN:VEVENT
DTSTART;TZID=America/New_York:20240106T070000
DTEND;TZID=America/New_York:20240106T153000
DTSTAMP:20260420T075740
CREATED:20231027T133003Z
LAST-MODIFIED:20231027T133003Z
UID:10000551-1704524400-1704555000@www.iuoe158.org
SUMMARY:Hazmat Refresher
DESCRIPTION:
URL:https://www.iuoe158.org/event/hazmat-refresher-20/
LOCATION:District 106 Training Site\, 27 Hannay Lane\, Glenmont\, NY\, 12077\, United States
CATEGORIES:District 106 Training
END:VEVENT
BEGIN:VEVENT
DTSTART;TZID=America/New_York:20240108T070000
DTEND;TZID=America/New_York:20240108T153000
DTSTAMP:20260420T075740
CREATED:20231027T133050Z
LAST-MODIFIED:20231027T133050Z
UID:10000552-1704697200-1704727800@www.iuoe158.org
SUMMARY:Hazmat Refresher
DESCRIPTION:
URL:https://www.iuoe158.org/event/hazmat-refresher-21/
LOCATION:District 106 Training Site\, 27 Hannay Lane\, Glenmont\, NY\, 12077\, United States
CATEGORIES:District 106 Training
END:VEVENT
END:VCALENDAR